BEGIN:VCALENDAR
VERSION:2.0
PRODID:-//Library Market//iCal Export//EN
BEGIN:VEVENT
SUMMARY:Bird TLC at Muldoon
UID:18529
DTSTAMP:20260424T040300Z
DTSTART:20260627T193000Z
DTEND:20260627T203000Z
LOCATION:1251 Muldoon Rd., Suite 158, Muldoon Town Center, Anchorage, AK 9
 9504, United States
ROOM: Muldoon - Program Room
DESCRIPTION:Learn about Alaskan birds and bird behavior with an expert and
  a real bird. This event is part of our Summer Discovery series for child
 ren and families. Find out more about Summer Discovery here.Note: programs
  are first-come, first-serve and seating is limited. Double check the prog
 ram&#039;s time and location to arrive on time and ensure your spot.  
URL:https://anchorage.librarycalendar.com/index.php/event/bird-tlc-muldoon
 -18529
END:VEVENT
END:VCALENDAR
