BEGIN:VCALENDAR
VERSION:2.0
PRODID:-//Library Market//iCal Export//EN
BEGIN:VEVENT
SUMMARY:Comics Workshop with Lee Post at Muldoon
UID:18532
DTSTAMP:20260422T212400Z
DTSTART:20260729T193000Z
DTEND:20260729T203000Z
LOCATION:1251 Muldoon Rd., Suite 158, Muldoon Town Center, Anchorage, AK 9
 9504, United States
ROOM: Muldoon - Program Room
DESCRIPTION:Learn to draw your own comics! Sketch with cartoonist Lee Post
  in a fast-paced, no-stress, and fun cartooning session for all skill leve
 ls and ages.This event is part of our Summer Discovery series for children
  and families. Find out more about Summer Discovery here.  Note: program
 s are first-come, first-serve and seating is limited. Double check the pro
 gram&#039;s time and location to arrive on time and ensure your spot. 
URL:https://anchorage.librarycalendar.com/index.php/event/comics-art-lee-p
 ost-muldoon-18532
END:VEVENT
END:VCALENDAR
