BEGIN:VCALENDAR
VERSION:2.0
PRODID:-//Library Market//iCal Export//EN
BEGIN:VEVENT
SUMMARY:Application Assistance at Chugiak-Eagle River
UID:18807
DTSTAMP:20260420T120700Z
DTSTART:20261103T230000Z
DTEND:20261104T010000Z
LOCATION:12001 Business Blvd. #176, Eagle River Town Center, Eagle River, 
 AK 99577, United States
ROOM: ERC - Main Floor
DESCRIPTION:Library staff from the Community Resource Group can help you n
 avigate paper or online applications and research what resources and oppor
 tunities best fit your needs.
URL:https://anchorage.librarycalendar.com/index.php/event/application-assi
 stance-chugiak-eagle-river-18807
END:VEVENT
END:VCALENDAR
