BEGIN:VCALENDAR
VERSION:2.0
PRODID:-//Library Market//iCal Export//EN
BEGIN:VEVENT
SUMMARY:Senior Poetry Workshop at Mountain View
UID:18814
DTSTAMP:20260425T191300Z
DTSTART:20260526T220000Z
DTEND:20260526T233000Z
LOCATION:120 Bragaw St, Anchorage, AK 99508, United States
ROOM: Mountain View - Community Room
DESCRIPTION:Seniors, join local poet and facilitator Brian Hutton for a po
 etry workshop, including exercises and discussions on creativity and menta
 l well being.
URL:https://anchorage.librarycalendar.com/index.php/event/senior-poetry-wo
 rkshop-mountain-view-18814
END:VEVENT
END:VCALENDAR
