BEGIN:VCALENDAR
VERSION:2.0
PRODID:-//Library Market//iCal Export//EN
BEGIN:VEVENT
SUMMARY:Application Assistance at Muldoon
UID:18832
DTSTAMP:20260423T110800Z
DTSTART:20260820T220000Z
DTEND:20260821T000000Z
LOCATION:1251 Muldoon Rd., Suite 158, Muldoon Town Center, Anchorage, AK 9
 9504, United States
ROOM: Muldoon - Program Room
DESCRIPTION:Our Community Resources Team offers help with any applications
  you need to complete: jobs, financial aid, public assistance, MyAlaska, a
 nd more. First-come, first-served. 
URL:https://anchorage.librarycalendar.com/index.php/event/application-assi
 stance-muldoon-18832
END:VEVENT
END:VCALENDAR
