BEGIN:VCALENDAR
VERSION:2.0
PRODID:-//Library Market//iCal Export//EN
BEGIN:VEVENT
SUMMARY:Application Assistance at Mountain View
UID:18852
DTSTAMP:20260422T043600Z
DTSTART:20260703T210000Z
DTEND:20260703T230000Z
LOCATION:120 Bragaw St, Anchorage, AK 99508, United States
ROOM: Application Assistance at Mountain View
DESCRIPTION:Get help completing paper and online applications and find res
 ources that fit your needs.
URL:https://anchorage.librarycalendar.com/index.php/event/application-assi
 stance-mountain-view-18852
END:VEVENT
END:VCALENDAR
