BEGIN:VCALENDAR
VERSION:2.0
PRODID:-//Library Market//iCal Export//EN
BEGIN:VEVENT
SUMMARY:Application Assistance at Mountain View
UID:18867
DTSTAMP:20260423T071400Z
DTSTART:20261023T210000Z
DTEND:20261023T230000Z
LOCATION:120 Bragaw St, Anchorage, AK 99508, United States
ROOM: Mountain View - Community Room
DESCRIPTION:Get help completing paper and online applications and find res
 ources that fit your needs.
URL:https://anchorage.librarycalendar.com/index.php/event/application-assi
 stance-mountain-view-18867
END:VEVENT
END:VCALENDAR
