BEGIN:VCALENDAR
VERSION:2.0
PRODID:-//Library Market//iCal Export//EN
BEGIN:VEVENT
SUMMARY:PAWSitive Reading at Chugiak-Eagle River
UID:18980
DTSTAMP:20260425T172900Z
DTSTART:20260507T233000Z
DTEND:20260508T003000Z
LOCATION:12001 Business Blvd. #176, Eagle River Town Center, Eagle River, 
 AK 99577, United States
ROOM: ERC Program Room
DESCRIPTION:Reading sessions are 10 minutes long and are scheduled on a fi
 rst come basis with the last session starting at 4:20 pm. Sign-up will ope
 n at 3:15 pm with the first session starting at 3:30 pm.PAWSitive Reading 
 is a special program designed to provide young children (Kindergarten-4th 
 grade) with a stress-free environment to practice their reading. Therapy d
 ogs are patient listeners for new and struggling readers. Children who par
 ticipate learn to associate reading with a positive experience and build c
 onfidence while practicing reading. 
URL:https://anchorage.librarycalendar.com/index.php/event/pawsitive-readin
 g-chugiak-eagle-river-18980
END:VEVENT
END:VCALENDAR
