BEGIN:VCALENDAR
VERSION:2.0
PRODID:-//Library Market//iCal Export//EN
BEGIN:VEVENT
SUMMARY:May the Force Movie Marathon at Gerrish
UID:18997
DTSTAMP:20260425T015700Z
DTSTART:20260502T180000Z
DTEND:20260503T020000Z
LOCATION:250 Egloff Drive, P.O. Box 169, Girdwood, AK 99587, United States
ROOM: May the Force Movie Marathon at Gerrish
DESCRIPTION:Come and enjoy a movie marathon with us! Popcorn will be provi
 ded. Please call 907-343-4024 for titles.
URL:https://anchorage.librarycalendar.com/index.php/event/may-force-movie-
 marathon-gerrish-18997
END:VEVENT
END:VCALENDAR
