BEGIN:VCALENDAR
VERSION:2.0
PRODID:-//Library Market//iCal Export//EN
BEGIN:VEVENT
SUMMARY:Stuntology
UID:17453
DTSTAMP:20260419T155700Z
DTSTART:20260529T000000Z
DTEND:20260529T010000Z
LOCATION:120 Bragaw St, Anchorage, AK 99508, United States
ROOM: Mountain View - Community Room
DESCRIPTION:Explore the mysteries of the everyday world through physical o
 bjects!Sam Bartlett has spent 30 years collecting, performing, writing abo
 ut, and illustrating the world’s greatest fun and easy stunts. These are
  the wonderful parlor tricks that have been passed on through the ages, th
 e simple seeming maneuvers that are impossible, and the impossible tricks 
 that anyone can do.
URL:https://anchorage.librarycalendar.com/event/stuntology-17453
END:VEVENT
END:VCALENDAR
