BEGIN:VCALENDAR
VERSION:2.0
PRODID:-//Library Market//iCal Export//EN
BEGIN:VEVENT
SUMMARY:Stuntology at Chugiak-Eagle River
UID:18221
DTSTAMP:20260425T015700Z
DTSTART:20260528T200000Z
DTEND:20260528T210000Z
LOCATION:12001 Business Blvd. #176, Eagle River Town Center, Eagle River, 
 AK 99577, United States
ROOM: ERTC Community Room
DESCRIPTION:Explore the mysteries of the everyday world through physical o
 bjects!Sam Bartlett has spent 30 years collecting, performing, writing abo
 ut, and illustrating the world’s greatest fun and easy stunts. These are
  the wonderful parlor tricks that have been passed on through the ages, th
 e simple seeming maneuvers that are impossible, and the impossible tricks 
 that anyone can do.
URL:https://anchorage.librarycalendar.com/event/summer-discovery-events-ch
 ugiak-eagle-river-18221
END:VEVENT
END:VCALENDAR
