BEGIN:VCALENDAR
VERSION:2.0
PRODID:-//Library Market//iCal Export//EN
BEGIN:VEVENT
SUMMARY:Krambambuli Puppet Theatre Presents &quot;The Gruffalo&quot; at Ch
 ugiak-Eagle River
UID:18222
DTSTAMP:20260425T194000Z
DTSTART:20260604T200000Z
DTEND:20260604T210000Z
LOCATION:12001 Business Blvd. #176, Eagle River Town Center, Eagle River, 
 AK 99577, United States
ROOM: ERTC Community Room
DESCRIPTION:The Krambambuli Puppet Theatre presents: The Gruffalo!Based on
  the book The Gruffalo by Julia Donaldson, watch as a small mouse goes th
 rough the forest with the help of a perhaps not-so-imaginary monster.Kramb
 ambuli Puppet Theatre offers wisdom and quality entertainment for the youn
 g and the young at heart.
URL:https://anchorage.librarycalendar.com/event/summer-discovery-events-ch
 ugiak-eagle-river-18222
END:VEVENT
END:VCALENDAR
