BEGIN:VCALENDAR
VERSION:2.0
PRODID:-//Library Market//iCal Export//EN
BEGIN:VEVENT
SUMMARY:Stuntology! at Muldoon
UID:18523
DTSTAMP:20260423T071400Z
DTSTART:20260527T193000Z
DTEND:20260527T203000Z
LOCATION:1251 Muldoon Rd., Suite 158, Muldoon Town Center, Anchorage, AK 9
 9504, United States
ROOM: Muldoon - Program Room
DESCRIPTION:Part of our Summer Discovery series for kids and families. Fin
 d out more about this and our other Summer Discovery events here. A Stunt
 ology presentation is a dazzling array of physical impossibilities and abs
 urdities that can be wrought with everyday objects. Stuntologist Sam coaxe
 s horrible sounds out of straws, makes forks float, napkins balance, and p
 aper expand. Sam demonstrates, then it’s your turn...you will be mystifi
 ed and amazed by stunts that work brilliantly, and even more entertained w
 hen stunts fail miserably. It’s all part of the experiment! Explanations
  fly along with objects, and the audience becomes a little smarter and mor
 e motivated to understand the workings of the world around us. Find out mo
 re about Sam Bartlett&#039;s work here. Ideal for ages 6+ with caregiver;
  all families welcome. Note: seating is limited in our space and first-co
 me, first-serve. Programs begin promptly. Double check your destination to
  arrive on time and enjoy the show. 
URL:https://anchorage.librarycalendar.com/event/stuntology-muldoon-18523
END:VEVENT
END:VCALENDAR
