BEGIN:VCALENDAR
VERSION:2.0
PRODID:-//Library Market//iCal Export//EN
BEGIN:VEVENT
SUMMARY:Pressed Flower Bookmarks Craft at Mountain View
UID:18789
DTSTAMP:20260420T071500Z
DTSTART:20260509T230000Z
DTEND:20260510T000000Z
LOCATION:120 Bragaw St, Anchorage, AK 99508, United States
ROOM: Mountain View - Community Room
DESCRIPTION:Design a pressed flower bookmark using real dried blooms. Perf
 ect as a Mother’s Day gift or a lovely treat for yourself. 
URL:https://anchorage.librarycalendar.com/event/pressed-flower-bookmarks-c
 raft-mountain-view-18789
END:VEVENT
END:VCALENDAR
