BEGIN:VCALENDAR
VERSION:2.0
PRODID:-//Library Market//iCal Export//EN
BEGIN:VEVENT
SUMMARY:Application Assistance at Muldoon
UID:18843
DTSTAMP:20260422T062600Z
DTSTART:20261105T230000Z
DTEND:20261106T010000Z
LOCATION:1251 Muldoon Rd., Suite 158, Muldoon Town Center, Anchorage, AK 9
 9504, United States
ROOM: Muldoon - Program Room
DESCRIPTION:Our Community Resources Team offers help with any applications
  you need to complete: jobs, financial aid, public assistance, MyAlaska, a
 nd more. First-come, first-served. 
URL:https://anchorage.librarycalendar.com/event/application-assistance-mul
 doon-18843
END:VEVENT
END:VCALENDAR
