BEGIN:VCALENDAR
VERSION:2.0
PRODID:-//Library Market//iCal Export//EN
BEGIN:VEVENT
SUMMARY:Application Assistance at Mountain View
UID:18856
DTSTAMP:20260422T043600Z
DTSTART:20260807T210000Z
DTEND:20260807T230000Z
LOCATION:120 Bragaw St, Anchorage, AK 99508, United States
ROOM: Mountain View - Community Room
DESCRIPTION:Get help completing paper and online applications and find res
 ources that fit your needs.
URL:https://anchorage.librarycalendar.com/event/application-assistance-mou
 ntain-view-18856
END:VEVENT
END:VCALENDAR
