BEGIN:VCALENDAR
VERSION:2.0
PRODID:-//Library Market//iCal Export//EN
BEGIN:VEVENT
SUMMARY:Application Assistance at Mountain View
UID:18870
DTSTAMP:20260423T110800Z
DTSTART:20261113T220000Z
DTEND:20261114T000000Z
LOCATION:120 Bragaw St, Anchorage, AK 99508, United States
ROOM: Mountain View - Community Room
DESCRIPTION:Get help completing paper and online applications and find res
 ources that fit your needs.
URL:https://anchorage.librarycalendar.com/event/application-assistance-mou
 ntain-view-18870
END:VEVENT
END:VCALENDAR
