BEGIN:VCALENDAR
VERSION:2.0
PRODID:-//Library Market//iCal Export//EN
BEGIN:VEVENT
SUMMARY:APD Storytime at Muldoon
UID:18939
DTSTAMP:20260423T071400Z
DTSTART:20260505T183000Z
DTEND:20260505T190000Z
LOCATION:1251 Muldoon Rd., Suite 158, Muldoon Town Center, Anchorage, AK 9
 9504, United States
ROOM: Muldoon - Program Room
DESCRIPTION:A special storytime featuring a guest reader from the Anchorag
 e Police Department (APD)! Enjoy stories, songs, and early literacy fun fo
 r children birth through kindergarten and their caregivers. All families w
 elcome. 
URL:https://anchorage.librarycalendar.com/event/apd-storytime-muldoon-1893
 9
END:VEVENT
END:VCALENDAR
