BEGIN:VCALENDAR
VERSION:2.0
PRODID:-//Library Market//iCal Export//EN
BEGIN:VEVENT
SUMMARY:Free Play Mornings at Gerrish
UID:18985
DTSTAMP:20260425T015700Z
DTSTART:20260512T183000Z
DTEND:20260512T193000Z
LOCATION:250 Egloff Drive, P.O. Box 169, Girdwood, AK 99587, United States
ROOM: Free Play Mornings at Gerrish
DESCRIPTION:Play with library toys, make new friends and check out books!
URL:https://anchorage.librarycalendar.com/event/free-play-mornings-gerrish
 -18985
END:VEVENT
END:VCALENDAR
