BEGIN:VCALENDAR
VERSION:2.0
PRODID:-//Library Market//iCal Export//EN
BEGIN:VEVENT
SUMMARY:Game Night at Gerrish
UID:18991
DTSTAMP:20260425T214900Z
DTSTART:20260508T000000Z
DTEND:20260508T020000Z
LOCATION:250 Egloff Drive, P.O. Box 169, Girdwood, AK 99587, United States
ROOM: Game Night at Gerrish
DESCRIPTION:Use our wide variety of board, dice, or card games or play wit
 h our Wii, Nintendo Switch or X-box or bring your own game!
URL:https://anchorage.librarycalendar.com/event/game-night-gerrish-18991
END:VEVENT
END:VCALENDAR
