BEGIN:VCALENDAR
VERSION:2.0
PRODID:-//Library Market//iCal Export//EN
BEGIN:VEVENT
SUMMARY:Free Comic Book Day at Gerrish
UID:18996
DTSTAMP:20260425T191300Z
DTSTART:20260502T180000Z
DTEND:20260503T020000Z
LOCATION:250 Egloff Drive, P.O. Box 169, Girdwood, AK 99587, United States
ROOM: Free Comic Book Day at Gerrish
DESCRIPTION:
URL:https://anchorage.librarycalendar.com/event/free-comic-book-day-gerris
 h-18996
END:VEVENT
END:VCALENDAR
