BEGIN:VCALENDAR
VERSION:2.0
PRODID:-//Library Market//iCal Export//EN
BEGIN:VEVENT
SUMMARY:Gerrish Book Club
UID:19000
DTSTAMP:20260425T015700Z
DTSTART:20260531T003000Z
DTEND:20260531T013000Z
LOCATION:250 Egloff Drive, P.O. Box 169, Girdwood, AK 99587, United States
ROOM: Gerrish Book Club
DESCRIPTION:Join us for the Gerrish Book Club discussion. May’s title is
  Becoming Madam Secretary by Stephanie Dray. Cookies and coffee provided
 !
URL:https://anchorage.librarycalendar.com/event/gerrish-book-club-19000
END:VEVENT
END:VCALENDAR
